BEGIN:VCALENDAR
VERSION:2.0
PRODID:-//Rocky Mountain Canoe Club - ECPv6.15.20//NONSGML v1.0//EN
CALSCALE:GREGORIAN
METHOD:PUBLISH
X-WR-CALNAME:Rocky Mountain Canoe Club
X-ORIGINAL-URL:https://rockymountaincanoeclub.net
X-WR-CALDESC:Events for Rocky Mountain Canoe Club
REFRESH-INTERVAL;VALUE=DURATION:PT1H
X-Robots-Tag:noindex
X-PUBLISHED-TTL:PT1H
BEGIN:VTIMEZONE
TZID:America/Denver
BEGIN:DAYLIGHT
TZOFFSETFROM:-0700
TZOFFSETTO:-0600
TZNAME:MDT
DTSTART:20140309T090000
END:DAYLIGHT
BEGIN:STANDARD
TZOFFSETFROM:-0600
TZOFFSETTO:-0700
TZNAME:MST
DTSTART:20141102T080000
END:STANDARD
BEGIN:DAYLIGHT
TZOFFSETFROM:-0700
TZOFFSETTO:-0600
TZNAME:MDT
DTSTART:20150308T090000
END:DAYLIGHT
BEGIN:STANDARD
TZOFFSETFROM:-0600
TZOFFSETTO:-0700
TZNAME:MST
DTSTART:20151101T080000
END:STANDARD
BEGIN:DAYLIGHT
TZOFFSETFROM:-0700
TZOFFSETTO:-0600
TZNAME:MDT
DTSTART:20160313T090000
END:DAYLIGHT
BEGIN:STANDARD
TZOFFSETFROM:-0600
TZOFFSETTO:-0700
TZNAME:MST
DTSTART:20161106T080000
END:STANDARD
BEGIN:DAYLIGHT
TZOFFSETFROM:-0700
TZOFFSETTO:-0600
TZNAME:MDT
DTSTART:20170312T090000
END:DAYLIGHT
BEGIN:STANDARD
TZOFFSETFROM:-0600
TZOFFSETTO:-0700
TZNAME:MST
DTSTART:20171105T080000
END:STANDARD
END:VTIMEZONE
BEGIN:VEVENT
DTSTART;TZID=America/Denver:20160911T103000
DTEND;TZID=America/Denver:20160911T160000
DTSTAMP:20260424T220645
CREATED:20160831T150920Z
LAST-MODIFIED:20160831T150920Z
UID:10000105-1473589800-1473609600@rockymountaincanoeclub.net
SUMMARY:Annual Poudre Paddlers Rodeo
DESCRIPTION:Not an RMCC event but lots of fun and many RMCC paddlers attend each year \nWhat: Poudre Paddlers Picnic and Rodeo \nWhen: Sunday\, September 11th\, 10:30 AM – 4:00 PM \nWhere: Union Reservoir in Longmont – Pavilion near swim beach – see link below * \nWho: You\, your family\, friends – anyone interested in paddling \nWhy: We have a lot of fun! \n  \nPlease plan to attend the 10th annual Poudre Paddlers Picnic & Rodeo on September 11th at Union Reservoir in Longmont. \n  \nThe day will include: \n– Trying each other’s boats and paddles \n– Paddling contests\, training\, games \n– Barbecue & Potluck – We will provide hamburgers\, hot dogs\, soft drinks and water. \n  \nPaddlers of all ages are invited\, and so are your family and friends who are interested in paddling! \n  \nPLEASE BRING: \n\nA Side Dish to Share – Chips\, fruit\, salad\, dessert\, etc.\nPlates\, cups and utensils. (We will have a limited supply of disposable items)\nBoats to paddle and share (You don’t have to have a boat to come and have fun!)\nChairs\nSunscreen\, hats\, sunglasses\, towels\, change of clothes\n\n  \nRSVP WITH THE FOLLOWING INFORMATION: \n\nHow many are coming (helps us plan food)\nYour planned side dish (salad\, chips\, dessert\, etc)\nHow many hamburgers and/or hot dogs your group may consume\nAny questions\n\n  \nCONTACT: Steve Luttmann (steveluttmann@hotmail.com) – Cell: 970-691-4572 \n  \nAsides: \nThere is a park entry fee of $8.00 per vehicle (unlimited passengers). No alcohol or glass containers. \n  \n*For detailed info about Union Reservoir – Directions\, Fees\, Rules: Click Here \n  \nHope to see you there! \n  \nSteve
URL:https://rockymountaincanoeclub.net/event/annual-poudre-paddlers-rodeo/
LOCATION:Union Reservoir\, Longmont\, CO\, United States
CATEGORIES:Non-RMCC event,Party
GEO:40.1672068;-105.1019275
END:VEVENT
BEGIN:VEVENT
DTSTART;TZID=America/Denver:20160326T090000
DTEND;TZID=America/Denver:20160326T150000
DTSTAMP:20260424T220645
CREATED:20160228T190254Z
LAST-MODIFIED:20160228T190254Z
UID:10000075-1458982800-1459004400@rockymountaincanoeclub.net
SUMMARY:Joint Clubs South Platte Paddle Day - Postponed 'til Saturday April 2
DESCRIPTION:Due to cold weather and threats of snow\, this trip has been postponed until Sat April 2 \n  \n 
URL:https://rockymountaincanoeclub.net/event/annual-joint-clubs-south-platte-paddle-day/
LOCATION:CO
CATEGORIES:Non-RMCC event
END:VEVENT
BEGIN:VEVENT
DTSTART;TZID=America/Denver:20150913T000000
DTEND;TZID=America/Denver:20150913T235959
DTSTAMP:20260424T220645
CREATED:20150807T130636Z
LAST-MODIFIED:20150807T130636Z
UID:10000062-1442102400-1442188799@rockymountaincanoeclub.net
SUMMARY:Poudre Paddlers Annual Rodeo/Picnic Sept 13
DESCRIPTION:Poudre Paddlers have invited all RMCC members to their annual Rodeo/Picnic at Union Reservoir in Longmont. Details to follow later in August \nPoudre Paddlers Rodeo\n  \nWhat: Poudre Paddlers Rodeo\nWhen: Sunday\, September 13th\, 10:30 AM – 4:00 PM\nWhere: Union Reservoir in Longmont – Pavilion near swim beach – see link below for info\nWho: You\, your family\, friends – anyone interested in paddling\nWhy: We have a lot of fun!\n \nPlease plan to attend the 9th annual Poudre Paddlers Rodeo on September 13th at Union Reservoir in Longmont. \n \nThe day will include:\n– Trying each other’s boats and paddles\n– Paddling contests\, training\, games\n– Barbecue & Potluck – We will provide hamburgers\, hot dogs\, and soft drinks.\n \nPaddlers of all ages are invited\, and so are your friends who are interested in paddling!\n \nPLEASE RSVP WITH THE FOLLOWING INFORMATION:\n1. How many are coming (helps us plan food)\n2. Your planned side dish (salad\, chips\, dessert\, etc)\n3. How many hamburgers and/or hot dogs your group may consume\n4. Any questions\n \nCONTACT: Steve Luttmann (steveluttmann@hotmail.com) – Cell: 970-691-4572\n \nPLEASE BRING:\n– A Side Dish to Share – Chips\, fruit\, salad\, dessert\, etc.\n– Boats to paddle and share with others (If you don’t have a boat\, come anyway!)\n– Chairs\n– Sunscreen\, hats\, sunglasses\, towels\, change of clothes\n– If you have any outdoor games that are good for children\, please bring them along\n \nAsides:\nThere is a park entry fee of $8.00 per vehicle (unlimited passengers). No glass containers. No alcohol.\n \n*Info on Union Reservoir – Directions\, Fees\, Rules:\nhttp://longmontcolorado.gov/departments/departments-n-z/parks-open-space-trails/union-reservoir-park\n \nhttp://www.poudrepaddlers.org/
URL:https://rockymountaincanoeclub.net/event/poudre-paddlers-annual-rodeopicnic-sept-13/
LOCATION:Union Reservoir\, Longmont\, CO\, United States
CATEGORIES:Non-RMCC event
ORGANIZER;CN="Steve Luttmann":MAILTO:steveluttmann@hotmail.com
GEO:40.1672068;-105.1019275
END:VEVENT
END:VCALENDAR