BEGIN:VCALENDAR
VERSION:2.0
PRODID:-//Rocky Mountain Canoe Club - ECPv6.15.20//NONSGML v1.0//EN
CALSCALE:GREGORIAN
METHOD:PUBLISH
X-WR-CALNAME:Rocky Mountain Canoe Club
X-ORIGINAL-URL:https://rockymountaincanoeclub.net
X-WR-CALDESC:Events for Rocky Mountain Canoe Club
REFRESH-INTERVAL;VALUE=DURATION:PT1H
X-Robots-Tag:noindex
X-PUBLISHED-TTL:PT1H
BEGIN:VTIMEZONE
TZID:America/Denver
BEGIN:DAYLIGHT
TZOFFSETFROM:-0700
TZOFFSETTO:-0600
TZNAME:MDT
DTSTART:20130310T090000
END:DAYLIGHT
BEGIN:STANDARD
TZOFFSETFROM:-0600
TZOFFSETTO:-0700
TZNAME:MST
DTSTART:20131103T080000
END:STANDARD
BEGIN:DAYLIGHT
TZOFFSETFROM:-0700
TZOFFSETTO:-0600
TZNAME:MDT
DTSTART:20140309T090000
END:DAYLIGHT
BEGIN:STANDARD
TZOFFSETFROM:-0600
TZOFFSETTO:-0700
TZNAME:MST
DTSTART:20141102T080000
END:STANDARD
BEGIN:DAYLIGHT
TZOFFSETFROM:-0700
TZOFFSETTO:-0600
TZNAME:MDT
DTSTART:20150308T090000
END:DAYLIGHT
BEGIN:STANDARD
TZOFFSETFROM:-0600
TZOFFSETTO:-0700
TZNAME:MST
DTSTART:20151101T080000
END:STANDARD
BEGIN:DAYLIGHT
TZOFFSETFROM:-0700
TZOFFSETTO:-0600
TZNAME:MDT
DTSTART:20160313T090000
END:DAYLIGHT
BEGIN:STANDARD
TZOFFSETFROM:-0600
TZOFFSETTO:-0700
TZNAME:MST
DTSTART:20161106T080000
END:STANDARD
BEGIN:DAYLIGHT
TZOFFSETFROM:-0700
TZOFFSETTO:-0600
TZNAME:MDT
DTSTART:20170312T090000
END:DAYLIGHT
BEGIN:STANDARD
TZOFFSETFROM:-0600
TZOFFSETTO:-0700
TZNAME:MST
DTSTART:20171105T080000
END:STANDARD
BEGIN:DAYLIGHT
TZOFFSETFROM:-0700
TZOFFSETTO:-0600
TZNAME:MDT
DTSTART:20180311T090000
END:DAYLIGHT
BEGIN:STANDARD
TZOFFSETFROM:-0600
TZOFFSETTO:-0700
TZNAME:MST
DTSTART:20181104T080000
END:STANDARD
BEGIN:DAYLIGHT
TZOFFSETFROM:-0700
TZOFFSETTO:-0600
TZNAME:MDT
DTSTART:20190310T090000
END:DAYLIGHT
BEGIN:STANDARD
TZOFFSETFROM:-0600
TZOFFSETTO:-0700
TZNAME:MST
DTSTART:20191103T080000
END:STANDARD
BEGIN:DAYLIGHT
TZOFFSETFROM:-0700
TZOFFSETTO:-0600
TZNAME:MDT
DTSTART:20200308T090000
END:DAYLIGHT
BEGIN:STANDARD
TZOFFSETFROM:-0600
TZOFFSETTO:-0700
TZNAME:MST
DTSTART:20201101T080000
END:STANDARD
BEGIN:DAYLIGHT
TZOFFSETFROM:-0700
TZOFFSETTO:-0600
TZNAME:MDT
DTSTART:20210314T090000
END:DAYLIGHT
BEGIN:STANDARD
TZOFFSETFROM:-0600
TZOFFSETTO:-0700
TZNAME:MST
DTSTART:20211107T080000
END:STANDARD
BEGIN:DAYLIGHT
TZOFFSETFROM:-0700
TZOFFSETTO:-0600
TZNAME:MDT
DTSTART:20220313T090000
END:DAYLIGHT
BEGIN:STANDARD
TZOFFSETFROM:-0600
TZOFFSETTO:-0700
TZNAME:MST
DTSTART:20221106T080000
END:STANDARD
BEGIN:DAYLIGHT
TZOFFSETFROM:-0700
TZOFFSETTO:-0600
TZNAME:MDT
DTSTART:20230312T090000
END:DAYLIGHT
BEGIN:STANDARD
TZOFFSETFROM:-0600
TZOFFSETTO:-0700
TZNAME:MST
DTSTART:20231105T080000
END:STANDARD
BEGIN:DAYLIGHT
TZOFFSETFROM:-0700
TZOFFSETTO:-0600
TZNAME:MDT
DTSTART:20240310T090000
END:DAYLIGHT
BEGIN:STANDARD
TZOFFSETFROM:-0600
TZOFFSETTO:-0700
TZNAME:MST
DTSTART:20241103T080000
END:STANDARD
BEGIN:DAYLIGHT
TZOFFSETFROM:-0700
TZOFFSETTO:-0600
TZNAME:MDT
DTSTART:20250309T090000
END:DAYLIGHT
BEGIN:STANDARD
TZOFFSETFROM:-0600
TZOFFSETTO:-0700
TZNAME:MST
DTSTART:20251102T080000
END:STANDARD
END:VTIMEZONE
BEGIN:VEVENT
DTSTART;TZID=America/Denver:20241117T140000
DTEND;TZID=America/Denver:20241117T170000
DTSTAMP:20260424T170528
CREATED:20240814T212657Z
LAST-MODIFIED:20240814T212657Z
UID:10000377-1731852000-1731862800@rockymountaincanoeclub.net
SUMMARY:RMCC Annual Meeting and Potluck
DESCRIPTION:Save the Date:  Sunday November 17th\, 2024; 2:00 – 5:00 pm \nIn-person and Virtual — we will work on MUCH BETTER audio for the zoomers this year.  Promise. \nMore info to come\, but be thinking about: \n** photos to share \n** nominating yourself for ANY of the officer positions/co-positions.
URL:https://rockymountaincanoeclub.net/event/rmcc-annual-meeting-and-potluck/
LOCATION:Greenway Park Golf Course Clubhouse\, 110 Greenway Drive\, Broomfield\, Colorado\, 80020
CATEGORIES:Party
ORGANIZER;CN="Kathryn Mutz":MAILTO:gvmutz@gmail.com
END:VEVENT
BEGIN:VEVENT
DTSTART;TZID=America/Denver:20230108T133000
DTEND;TZID=America/Denver:20230108T163000
DTSTAMP:20260424T170528
CREATED:20221128T214436Z
LAST-MODIFIED:20221128T215518Z
UID:10000304-1673184600-1673195400@rockymountaincanoeclub.net
SUMMARY:Jan.8 Planning and Permit Party!
DESCRIPTION:The RMCC Annual Planning and Permit Party Meeting (PPP) will be held in-person Sunday\, January 8\, 2023 from 1:30-4:30 pm at the Greenway Park Clubhouse:  110 Greenway Drive\, Broomfield\, CO 80020 — Greenway Park Clubhouse Map. \nThis will be an Appetizer/Dessert Potluck.  Zoom participation will be available during the more formal presentation at 2:30 pm. A Zoom link will be sent out prior to the meeting. \n  \nThere will be time to socialize\, and eat\, while we mingle and talk informally about possible trips of interest for 2023–permitted or not (1:30-2:30). Then there will be a more formal discussion\, presentation\, question and answer time (2:30 – 4 pm-ish). Depending on available time\, we may have a bit more social time–perhaps with more dessert! \n  \nWe can use a few volunteers to help with set-up and clean up. Please contact Brookie if you are willing to come a little early (1 pm) and stay a little late (5pm).
URL:https://rockymountaincanoeclub.net/event/jan-8-planning-and-permit-party/
LOCATION:Colorado
CATEGORIES:Party
END:VEVENT
BEGIN:VEVENT
DTSTART;TZID=America/Denver:20221112T150000
DTEND;TZID=America/Denver:20221112T173000
DTSTAMP:20260424T170528
CREATED:20221102T164205Z
LAST-MODIFIED:20221102T164205Z
UID:10000303-1668265200-1668274200@rockymountaincanoeclub.net
SUMMARY:Annual Meeting
DESCRIPTION:The RMCC Annual Meeting and Appetizer/Dessert Potluck will be held Saturday November 12 from 3:00 – 5:30 at the Greenway Park Clubhouse:  110 Greenway Drive\, Broomfield\, CO 80020 — Greenway Park Clubhouse Map.  \nWe also welcome participation by Zoom in the business and photo presentation portions of the meeting. BYO appetizer/dessert. \n  \nOfficer Elections: \nAn essential part of the annual meeting is election of officers for the following year. Last year we added three new faces to the board as members stepped up to replace our retiring officers (Brookie Gallagher as Tripmaster\, Miry Broughall as Quartermaster\, and John Licht as Treasurer) and filled new needs (Anne Fiore as Conservation Coordinator and Miry as Boat Master\, a role she had taken on during the 2021 season). \nWe always appreciate new blood as it brings with it new energy and ideas. \nAll of the 2022 officers have agreed to serve another one-year term — if re-elected at our meeting — BUT: \n  \nIf you are interested in considering a leadership role in the club\, please see the description of our officer positions. For more information or to volunteer\, contact me or one of the other officers you would like to replace (with our blessing!) or assist in 2023 with the potential for running for the office in 2024. \nFor More Information on the Annual Meeting or to Participate by Zoom: \nPlease RSVP to Kathryn or simply look for more information via the GoogleGroup for: \n\na Zoom invitation about a week before the meeting;\nInfo on submitting photos for the Boating Photos presentations (in-person or via Zoom); or\nto show & tell at the Gadget Showcase.
URL:https://rockymountaincanoeclub.net/event/annual-meeting/
LOCATION:Colorado
CATEGORIES:Party
END:VEVENT
BEGIN:VEVENT
DTSTART;TZID=America/Denver:20180113T133000
DTEND;TZID=America/Denver:20180113T163000
DTSTAMP:20260424T170528
CREATED:20171028T194401Z
LAST-MODIFIED:20171028T194401Z
UID:10000142-1515850200-1515861000@rockymountaincanoeclub.net
SUMMARY:2018 Planning and Permit Party: Broomfield Jan 13
DESCRIPTION:January 13 from 1:30 – 4:40 — if you love canoeing be sure to put this meeting on your calendar. This is the time RMCC members\, family and guests come together to learn about possible canoe trips and classes and help determine the club’s 2018 event calendar. Trip coordinators are recruited and dates selected. (Popular trips often fill up during this party.) Many multi-day trips require permits and the odds of getting a permit increases considerably if a group of people put in for the same dates. So time will be given at the end of the meeting for people wishing to register for the same permitted trip so they can plan and coordinate possible dates. For the list of river and lake trips RMCC has offered in previous years including the ones that require a permit click the following link: List of Permit and non-permit rivers \nRegister by emailing Kit Williams (kitrynwilliams@gmail.com) the names of the people who will be attending so she can print name tags. This is also an excellent meeting for people who are not members of RMCC but wish to know more about the club and its activities. If you can’t attend\, consider sending Kit the names of the trips in which you are interest so the trip coordinators can add you to their list of possible participants. The party will be held in Broomfield\, plan on bringing an appetizer or snack and a beverage of your choice. The party is being held at: \nGreenway Park Clubhouse\n110 Greenway Drive\, Broomfield\, Co  80020\nIt is in Broomfield one block south of 120th Avenue and a short block East of Main St. \nFor those of you wonderful volunteers who are willing to be a trip coordinator or co-coordinator in 2018\, please let Kit know which trips you wish to lead and possible dates. We are also taking names of people interested in being mentored by a more experienced paddler with the intention of leading RMCC excursions in upcoming years.
URL:https://rockymountaincanoeclub.net/event/2018-planning-permit-party-broomfield-sat-jan-13/
LOCATION:Colorado
CATEGORIES:Party
END:VEVENT
BEGIN:VEVENT
DTSTART;TZID=America/Denver:20161112T180000
DTEND;TZID=America/Denver:20161112T210000
DTSTAMP:20260424T170528
CREATED:20160904T121409Z
LAST-MODIFIED:20160904T121409Z
UID:10000107-1478973600-1478984400@rockymountaincanoeclub.net
SUMMARY:Annual Meeting and Potluck
DESCRIPTION:Join us for RMCC’s Annual Potluck and Meeting!  This year we’ll meet at 6 pm in Morrison; if we have significant snow\, the alternate date with be the following Saturday Nov 19.  We’ll share the highlights from this season’s paddling adventures along with dinner\, and we’ll hold a brief meeting with club updates and an election for next year’s officers. \nPlease RSVP to Bill Ashworth (washwort@gmail) and we’ll get you directions. \nWhat to bring: \n\nDish to share\nYour favorite beverage\nA thumb drive with your best photos from this year’s paddling adventures\n(RMCC will provide utensils for dinner)
URL:https://rockymountaincanoeclub.net/event/annual-meeting-potluck/
LOCATION:Kit & Henry Williams’ house
CATEGORIES:Party
ORGANIZER;CN="Bill Ashworth":MAILTO:washwort at gmail.com
END:VEVENT
BEGIN:VEVENT
DTSTART;TZID=America/Denver:20160911T103000
DTEND;TZID=America/Denver:20160911T160000
DTSTAMP:20260424T170528
CREATED:20160831T150920Z
LAST-MODIFIED:20160831T150920Z
UID:10000105-1473589800-1473609600@rockymountaincanoeclub.net
SUMMARY:Annual Poudre Paddlers Rodeo
DESCRIPTION:Not an RMCC event but lots of fun and many RMCC paddlers attend each year \nWhat: Poudre Paddlers Picnic and Rodeo \nWhen: Sunday\, September 11th\, 10:30 AM – 4:00 PM \nWhere: Union Reservoir in Longmont – Pavilion near swim beach – see link below * \nWho: You\, your family\, friends – anyone interested in paddling \nWhy: We have a lot of fun! \n  \nPlease plan to attend the 10th annual Poudre Paddlers Picnic & Rodeo on September 11th at Union Reservoir in Longmont. \n  \nThe day will include: \n– Trying each other’s boats and paddles \n– Paddling contests\, training\, games \n– Barbecue & Potluck – We will provide hamburgers\, hot dogs\, soft drinks and water. \n  \nPaddlers of all ages are invited\, and so are your family and friends who are interested in paddling! \n  \nPLEASE BRING: \n\nA Side Dish to Share – Chips\, fruit\, salad\, dessert\, etc.\nPlates\, cups and utensils. (We will have a limited supply of disposable items)\nBoats to paddle and share (You don’t have to have a boat to come and have fun!)\nChairs\nSunscreen\, hats\, sunglasses\, towels\, change of clothes\n\n  \nRSVP WITH THE FOLLOWING INFORMATION: \n\nHow many are coming (helps us plan food)\nYour planned side dish (salad\, chips\, dessert\, etc)\nHow many hamburgers and/or hot dogs your group may consume\nAny questions\n\n  \nCONTACT: Steve Luttmann (steveluttmann@hotmail.com) – Cell: 970-691-4572 \n  \nAsides: \nThere is a park entry fee of $8.00 per vehicle (unlimited passengers). No alcohol or glass containers. \n  \n*For detailed info about Union Reservoir – Directions\, Fees\, Rules: Click Here \n  \nHope to see you there! \n  \nSteve
URL:https://rockymountaincanoeclub.net/event/annual-poudre-paddlers-rodeo/
LOCATION:Union Reservoir\, Longmont\, CO\, United States
CATEGORIES:Non-RMCC event,Party
GEO:40.1672068;-105.1019275
END:VEVENT
BEGIN:VEVENT
DTSTART;TZID=America/Denver:20160123T180000
DTEND;TZID=America/Denver:20160123T210000
DTSTAMP:20260424T170528
CREATED:20151203T165755Z
LAST-MODIFIED:20151203T165755Z
UID:10000064-1453572000-1453582800@rockymountaincanoeclub.net
SUMMARY:Annual RMCC Permit Party - Saturday January 23 2016 in Boulder
DESCRIPTION:Save the date! Details to follow
URL:https://rockymountaincanoeclub.net/event/annual-rmcc-permit-party-saturday-january-23-2016/
LOCATION:Member’s house\, Boulder\, CO\, United States
CATEGORIES:Party
ORGANIZER;CN="Bill Ashworth":MAILTO:washwort at gmail.com
GEO:40.0149856;-105.2705456
END:VEVENT
BEGIN:VEVENT
DTSTART;TZID=America/Denver:20141101T180000
DTEND;TZID=America/Denver:20141101T210000
DTSTAMP:20260424T170528
CREATED:20140930T161745Z
LAST-MODIFIED:20140930T161745Z
UID:10000032-1414864800-1414875600@rockymountaincanoeclub.net
SUMMARY:Annual Meeting Sat Nov 1 in Denver
DESCRIPTION:Our annual meeting and potluck will be held on Saturday Nov 1 starting at 6pm at Jeanne Willson’s in Denver. This is traditionally the last event of the calendar year and is a great chance to swap stories\, view trip photos\, share some food and drink and generally say good-bye to the rivers of 2014. \nWhat the club will provide: pizza and sparkling water\, and table and glassware\, computer and screen for viewing photos \nWhat YOU should bring: a disk or flash drive with pictures of your 2014 trips (private and club)\, some food and drink to share for dinner and dessert . \nAfter dinner we’ll have a brief business meeting where we’ll review the year past and elect club officers for the coming year. \nPlease RSVP so we know how much stuff to get \nBill Ashworth \n720-352-6456 \nwashwort at comcast.net
URL:https://rockymountaincanoeclub.net/event/annual-meeting-sat-nov-1-denver/
LOCATION:Jeanne Willson’s House\, 2840 S. Wabash Cicle\, Denver\, CO\, United States
CATEGORIES:Party
ORGANIZER;CN="Bill Ashworth":MAILTO:washwort at comcast.net
END:VEVENT
BEGIN:VEVENT
DTSTART;TZID=America/Denver:20140118T180000
DTEND;TZID=America/Denver:20140118T210000
DTSTAMP:20260424T170528
CREATED:20140107T162238Z
LAST-MODIFIED:20140107T162238Z
UID:10000015-1390068000-1390078800@rockymountaincanoeclub.net
SUMMARY:Annual Permit Party
DESCRIPTION:2014 Annual Permit Party! \nJoin your fellow RMCC paddlers as we set the agenda for the 2014 paddling season. We’ll decide where we want to paddle\, and which permits we’ll apply for. \nWhere: The home of Christine Valentini and Steve Bimm \nContact Carol Duecker – cmdeck@bresnan.net – for details
URL:https://rockymountaincanoeclub.net/event/annual-permit-party/
LOCATION:Untitled ngg_pictures
CATEGORIES:Party
END:VEVENT
END:VCALENDAR